BEGIN:VCALENDAR
VERSION:2.0
PRODID:-//wp-events-plugin.com//7.2.3.1//EN
TZID:Europe/Paris
X-WR-TIMEZONE:Europe/Paris
BEGIN:VEVENT
UID:62@impropotames.fr
DTSTART:20171028T183000Z
DTEND:20171028T203000Z
DTSTAMP:20170915T072158Z
URL:https://impropotames.fr/events/catch-improvisation-avec-les-zimprocibl
 es-belgique/
SUMMARY:Catch-Improvisation avec les Zimprocibles (Belgique)
DESCRIPTION:Pour la toute première fois\, les Zimprocibles de Charleroi et
  les Impropotames vous proposeront un catch d'improvisation !\n\n6 binôme
 s monteront sur le ring pour un découdre\, à la fin de chaque pool\, il 
 ne pourra en rester qu'un ! Et ça c'est vous qui décidez !\n\nUn spectac
 le à ne surtout pas manquer.\n\nRéservation hautement conseillée.
CATEGORIES:Catch
LOCATION:Amphithéâtre de l'OSCAR\, 4\, Route de Bessine\, Rumilly\, HAUTE
 -SAVOIE\, 74150\, RHONE-ALPES\, France
GEO:45.863086;5.939044
X-APPLE-STRUCTURED-LOCATION;VALUE=URI;X-ADDRESS=4\, Route de Bessine\, Rumi
 lly\, HAUTE-SAVOIE\, 74150\, RHONE-ALPES\, France;X-APPLE-RADIUS=100;X-TIT
 LE=Amphithéâtre de l'OSCAR:geo:45.863086,5.939044
END:VEVENT
END:VCALENDAR