BEGIN:VCALENDAR
VERSION:2.0
PRODID:-//wp-events-plugin.com//7.2.3.1//EN
TZID:Europe/Paris
X-WR-TIMEZONE:Europe/Paris
BEGIN:VEVENT
UID:79@impropotames.fr
DTSTART:20190119T173000Z
DTEND:20190119T190000Z
DTSTAMP:20181216T154629Z
URL:https://impropotames.fr/events/catchimpropoussin2019/
SUMMARY:Catch impro poussin
DESCRIPTION:\nPour la toute première fois de l'histoire\, les Impropotames
  poussins ont décidé de voir les choses en grand !\nIls ont décidé\, e
 ux aussi\, de se lancer dans le catch d'improvisation ! Difficile exercice
 \, mais nos poussins sont prêt à tout ! Notamment vous émerveiller deva
 nt leur talent si précoce.
LOCATION:Amphithéâtre de l'OSCAR\, 4\, Route de Bessine\, Rumilly\, HAUTE
 -SAVOIE\, 74150\, RHONE-ALPES\, France
GEO:45.863086;5.939044
X-APPLE-STRUCTURED-LOCATION;VALUE=URI;X-ADDRESS=4\, Route de Bessine\, Rumi
 lly\, HAUTE-SAVOIE\, 74150\, RHONE-ALPES\, France;X-APPLE-RADIUS=100;X-TIT
 LE=Amphithéâtre de l'OSCAR:geo:45.863086,5.939044
END:VEVENT
END:VCALENDAR