BEGIN:VCALENDAR
VERSION:2.0
PRODID:-//wp-events-plugin.com//7.2.3.1//EN
TZID:Europe/Paris
X-WR-TIMEZONE:Europe/Paris
BEGIN:VEVENT
UID:106@impropotames.fr
DTSTART:20211031T203000Z
DTEND:20211031T223000Z
DTSTAMP:20211023T081525Z
URL:https://impropotames.fr/events/epitaphs/
SUMMARY:Epitaphs
DESCRIPTION:31 Octobre 2021 à 20h30\n\nAmphithéâtre de l’Oscar\n\nSyno
 psis :\n\nPour Halloween\, les impropotames et les Zimprocibles rendront h
 ommage aux morts en jouant le vivant.\n\n'Je t'avais dis que j'étais mala
 de'\n\n'J'aurai préféré une pyramide'\n\n'Va t'en\, je dors'\n\n...\n\n
 Tant d'épitaphes qui donnent envie de connaitre leurs malheureux proprié
 taires.\n\nVenez les découvrir avec nous par le biais de tranches de vie\
 , toutes plus croquantes les unes que les autres.\n\n&nbsp\;\n\nPass sanit
 aire et masque obligatoire
LOCATION:Amphithéâtre de l'OSCAR\, 4\, Route de Bessine\, Rumilly\, HAUTE
 -SAVOIE\, 74150\, RHONE-ALPES\, France
GEO:45.863086;5.939044
X-APPLE-STRUCTURED-LOCATION;VALUE=URI;X-ADDRESS=4\, Route de Bessine\, Rumi
 lly\, HAUTE-SAVOIE\, 74150\, RHONE-ALPES\, France;X-APPLE-RADIUS=100;X-TIT
 LE=Amphithéâtre de l'OSCAR:geo:45.863086,5.939044
END:VEVENT
END:VCALENDAR