BEGIN:VCALENDAR
VERSION:2.0
PRODID:-//wp-events-plugin.com//7.2.3.1//EN
TZID:Europe/Paris
X-WR-TIMEZONE:Europe/Paris
BEGIN:VEVENT
UID:13@impropotames.fr
DTSTART:20170526T201500Z
DTEND:20170526T233000Z
DTSTAMP:20170402T135752Z
URL:https://impropotames.fr/events/festival-2017-soir-3-catch-impro-anime-
 par-les-voyageuses-galactiques/
SUMMARY:Festival 2017 - Soir 3 - Catch Impro - animé par les voyageuses ga
 lactiques
DESCRIPTION:L'année dernière\, les voyageuses galactiques remportaient de
  manière totalement lunaire (?) la ceinture des Divas.\n\n&nbsp\;\n\nElle
 s devront\, cette année\, sous vos yeux ébahies tenter de la défendre !
 \n\nCette soirée sera placée sous la signe de la féminité et de la sci
 ence-fiction\, ce qui cela promets pas mal de surprise n'est-ce pas ?\n\nL
 es voyageuses ne seront pas seules puisqu'elles seront accompagnées de pl
 usieurs autres bînomes prêt à décrocher des étoiles pour se qualifier
  pour la grande soirée du samedi soir !
CATEGORIES:Catch
LOCATION:Salle des fêtes de Rumilly\, Rue du Sophora\, Rumilly\, France
GEO:45.86459420000001;5.938241199999993
X-APPLE-STRUCTURED-LOCATION;VALUE=URI;X-ADDRESS=Rue du Sophora\, Rumilly\, 
 France;X-APPLE-RADIUS=100;X-TITLE=Salle des fêtes de Rumilly:geo:45.86459
 420000001,5.938241199999993
END:VEVENT
END:VCALENDAR