BEGIN:VCALENDAR
VERSION:2.0
PRODID:-//wp-events-plugin.com//7.2.3.1//EN
TZID:Europe/Paris
X-WR-TIMEZONE:Europe/Paris
BEGIN:VEVENT
UID:126@impropotames.fr
DTSTART;VALUE=DATE:20230516
DTEND;VALUE=DATE:20230521
DTSTAMP:20230507T100638Z
URL:https://impropotames.fr/events/festup-2023-ateliers/
SUMMARY:FEST'UP 2023 - Ateliers
DESCRIPTION:\n\n\n \n\n\n\n\n\n\n\n\n\n\n\n\n\nDescription\n\n\n\n\n\n\n\n
 Cette année le FEST'UP\, Festival d'improvisation théâtrale amateur de 
 Rumilly\, organisé par les Impropotames\, se tiendra du mardi 16 au samed
 i 20 mai 2023.\n\n\n\nPour sa quatrième édition sous cette forme\, ce so
 nt plus de 50 improvisateurs qui interviendront pour votre plus grand plai
 sir.\n\n\n\nCette année\, la programmation comptera 16 spectacles improvi
 sés.\n\n\n\nComme les années précédentes\, des spectacles familiaux et
  jeune public\, des spectacles tout public et des spectacles pour public a
 verti seront présentés.\n\n\n\nUn jury de spectateurs et son président\
 , Anthony Duch\, assisteront à chaque spectacle et décerneront des prix
  lors de la cérémonie de clôture le samedi soir.\n\n\n\nLe FEST'UP c'es
 t aussi un grand tournoi de CATCH IMPRO qui verra s'affronter tous les jou
 rs des binômes de la France entière et même de Belgique. Les Maléfique
 s\, Les Hommes de ménage et les Dupont et Dupond auront fort à faire pou
 r défendre leur ceinture ! Avec 2 pools de qualification par jour et une 
 finale tous les soirs\, le CATCH IMPRO propose 10 spectacles supplémentai
 res ! \n\n\n\nEnfin\, de nombreux ateliers sont ouverts aux improvisateur
 s. Et cette année\, certains stages sont de nouveau ouverts au public\, m
 ême n'ayant jamais pratiqué l'improvisation théâtrale.\n\n\n\nImportan
 t : La vente des billets pour tous les spectacles se fait UNIQUEMENT à la
  salle des fêtes de Rumilly.\n\n\n\nPrévoir de se présenter au plus tar
 d 15 minutes avant l'horaire prévu pour le spectacle.\n\n\n\n\n\n\n\n\n\n
 \nA savoir\n\n\n\n\n\n\n\nUne restauration rapide sera disponible à la bu
 vette tout au long du festival.\n\n\n\nLes réservations sont également p
 ossible par téléphone au : 04.50.01.08.90\n\n\n\n\n\n\n\n\n\n\nPlanning 
 Atelier\n\n\n\n\n\n\n\nCi dessous\, vous trouverez la liste des ateliers d
 u festival. Les ateliers tout public sont accessible sans expérience d'im
 provisation et à tout le monde\, profitez en !\nLe créneau 09h30 - 12h30
  est un créneau réservé pour les salles. Ils peuvent être plus court\,
  se renseigner auprès de l'accueil lors de votre arrivée. \n[table id=7
 6 /]\n\n\n\n&nbsp\;\n\n\n\n&nbsp\;\n\n\n\n\n&nbsp\;\n
CATEGORIES:Fest'up
LOCATION:Salle des fêtes de Rumilly\, Rue du Sophora\, Rumilly\, France
GEO:45.86459420000001;5.938241199999993
X-APPLE-STRUCTURED-LOCATION;VALUE=URI;X-ADDRESS=Rue du Sophora\, Rumilly\, 
 France;X-APPLE-RADIUS=100;X-TITLE=Salle des fêtes de Rumilly:geo:45.86459
 420000001,5.938241199999993
END:VEVENT
END:VCALENDAR