BEGIN:VCALENDAR
VERSION:2.0
PRODID:-//wp-events-plugin.com//7.2.3.1//EN
TZID:Europe/Paris
X-WR-TIMEZONE:Europe/Paris
BEGIN:VEVENT
UID:107@impropotames.fr
DTSTART:20211128T170000Z
DTEND:20211128T180000Z
DTSTAMP:20211116T142224Z
URL:https://impropotames.fr/events/fptr-5/
SUMMARY:FPTR 5
DESCRIPTION:\nSynopsis :\n\nIls sont de retour.. Après des mois d’absenc
 e\, Dj QG et Big MC vont de nouveau enflammer les planches de l’OSCAR.\n
 \nRetrouver le gros son FPTR avec les voix de la team Imrpopotames\, les c
 orps de la crew Impel Down et les beats de la V’TEAM.\n\nSlam\, lyrics\,
  Danse Hip-hop et compo musicale \, tout sera improvisé en direct sous v
 os yeux. Êtes-vous prêt pour l’expérience FPTR ?
CATEGORIES:Cabaret
LOCATION:Amphithéâtre de l'OSCAR\, 4\, Route de Bessine\, Rumilly\, HAUTE
 -SAVOIE\, 74150\, RHONE-ALPES\, France
GEO:45.863086;5.939044
X-APPLE-STRUCTURED-LOCATION;VALUE=URI;X-ADDRESS=4\, Route de Bessine\, Rumi
 lly\, HAUTE-SAVOIE\, 74150\, RHONE-ALPES\, France;X-APPLE-RADIUS=100;X-TIT
 LE=Amphithéâtre de l'OSCAR:geo:45.863086,5.939044
END:VEVENT
END:VCALENDAR