BEGIN:VCALENDAR
VERSION:2.0
PRODID:-//wp-events-plugin.com//7.2.3.1//EN
TZID:Europe/Paris
X-WR-TIMEZONE:Europe/Paris
BEGIN:VEVENT
UID:118@impropotames.fr
DTSTART:20221126T203000Z
DTEND:20221126T223000Z
DTSTAMP:20221118T094005Z
URL:https://impropotames.fr/events/fptr-6/
SUMMARY:FPTR 6
DESCRIPTION:\n\n&nbsp\;\n\n\n\nPour les 30 ans de l'OSCAR\, ils reviennent.
 . Après des mois d’absence\, Dj QG et Big MC vont de nouveau enflammer 
 les planches de l’amphithéatre.\n\nRetrouvez le gros son FPTR avec les 
 voix de la team Impropotames\, les corps de la crew Impel Down et les beat
 s de la V’TEAM.\n\nSlam\, lyrics\, Danse Hip-hop et compo musicale \, to
 ut sera improvisé en direct sous vos yeux. FPTR\, c'est le seul spectacle
  inter-discipline qui balance de la good vibe.\n\nÊtes-vous prêt pour l
 ’expérience FPTR ?
LOCATION:Amphithéâtre de l'OSCAR\, 4\, Route de Bessine\, Rumilly\, HAUTE
 -SAVOIE\, 74150\, RHONE-ALPES\, France
GEO:45.863086;5.939044
X-APPLE-STRUCTURED-LOCATION;VALUE=URI;X-ADDRESS=4\, Route de Bessine\, Rumi
 lly\, HAUTE-SAVOIE\, 74150\, RHONE-ALPES\, France;X-APPLE-RADIUS=100;X-TIT
 LE=Amphithéâtre de l'OSCAR:geo:45.863086,5.939044
END:VEVENT
END:VCALENDAR