BEGIN:VCALENDAR
VERSION:2.0
PRODID:-//wp-events-plugin.com//7.2.3.1//EN
TZID:Europe/Paris
X-WR-TIMEZONE:Europe/Paris
BEGIN:VEVENT
UID:73@impropotames.fr
DTSTART:20181031T210000Z
DTEND:20181031T235900Z
DTSTAMP:20181011T115524Z
URL:https://impropotames.fr/events/halloween-show-2018/
SUMMARY:Le bal - Spectacle immersif avec les Zimprocibles (Belge)
DESCRIPTION:Amphithéâtre de l'OSCAR\n31 octobre 2018 à 21h :\nLe bal\nSp
 ectacle immersif - Déconseillé au moins de 12 ans\nSynopsis : \n\n\n\n\
 n\nLe bal de promo de fin d'année... un bien beau moment...\nUn moment po
 ur rire\, pour partager\, pour s'amuser\, pour danse et s'aimer...\n\n\nUn
  moment pour élire la reine de l'année...\n\n\nUn moment où.....\n...\n
 \n\nOù tout peut arriver ... Même l'horreur d'une soirée qui dérape...
  Inéluctablement...."\n\n\nVenez découvrir le premier épisode d'Impro H
 orror Story\, une expérience immersive à souhait où vous serez à la fo
 is acteurs et spectateurs\, témoins et scénaristes...\n\n\nTout arrivera
  grâce à vous... ou ... à cause de vous !!!
CATEGORIES:Cabaret
LOCATION:Amphithéâtre de l'OSCAR\, 4\, Route de Bessine\, Rumilly\, HAUTE
 -SAVOIE\, 74150\, RHONE-ALPES\, France
GEO:45.863086;5.939044
X-APPLE-STRUCTURED-LOCATION;VALUE=URI;X-ADDRESS=4\, Route de Bessine\, Rumi
 lly\, HAUTE-SAVOIE\, 74150\, RHONE-ALPES\, France;X-APPLE-RADIUS=100;X-TIT
 LE=Amphithéâtre de l'OSCAR:geo:45.863086,5.939044
END:VEVENT
END:VCALENDAR