BEGIN:VCALENDAR
VERSION:2.0
PRODID:-//wp-events-plugin.com//7.2.3.1//EN
TZID:Europe/Paris
X-WR-TIMEZONE:Europe/Paris
BEGIN:VEVENT
UID:129@impropotames.fr
DTSTART:20231030T140000Z
DTEND:20231030T144500Z
DTSTAMP:20231026T103505Z
URL:https://impropotames.fr/events/histoires-a-fremir/
SUMMARY:Histoires à frémir
DESCRIPTION:\n\n\n\n30 Octobre 2023 à 14h\n\nAmphithéâtre de l’Oscar\n
 \nSynopsis :\n\nA ce qu'il paraît\, Halloween n'est pas tout à fait une 
 fête normale. On dit que c'est lors de cette fête que toutes les histoir
 es deviennent 'un peu' vraie.\n\nFantômes\, momies\, vampires et autres '
 vilains' se réveillent et ils adoooorent qu'on raconte leurs histoires.\n
 \nSi vous avez 6 ans ou plus\, n'hésitez pas à venir assister aux histoi
 res à frémir.
LOCATION:Amphithéâtre de l'OSCAR\, 4\, Route de Bessine\, Rumilly\, HAUTE
 -SAVOIE\, 74150\, RHONE-ALPES\, France
GEO:45.863086;5.939044
X-APPLE-STRUCTURED-LOCATION;VALUE=URI;X-ADDRESS=4\, Route de Bessine\, Rumi
 lly\, HAUTE-SAVOIE\, 74150\, RHONE-ALPES\, France;X-APPLE-RADIUS=100;X-TIT
 LE=Amphithéâtre de l'OSCAR:geo:45.863086,5.939044
END:VEVENT
END:VCALENDAR