BEGIN:VCALENDAR
VERSION:2.0
PRODID:-//wp-events-plugin.com//7.2.3.1//EN
TZID:Europe/Paris
X-WR-TIMEZONE:Europe/Paris
BEGIN:VEVENT
UID:90@impropotames.fr
DTSTART:20191031T203000Z
DTEND:20191031T230000Z
DTSTAMP:20191006T091249Z
URL:https://impropotames.fr/events/impro-horror-story/
SUMMARY:Impro Horror Story : Madness
DESCRIPTION:\nImpro Horror Story : Madness\n \n31 Octobre 2019 à 20h30\n \
 nAmphithéâtre de l'Oscar\n \n\nSynopsis :\n\n \n\nLe terme de folie est\
 , aujourd'hui\, rentré dans les mœurs au travers de banales expressions 
 : "Mais t'es fou ?"\, "Faut être fou pour faire ça"\, "Quelle folle furi
 euse !"...\n\n \n\nMais vous êtes vous déjà demandé ce qu'était la vr
 aie folie ? Celle qui ronge l'esprit tel un parasite et qui transforme tou
 t ce qu'un être humain est 'censé' être.\n\n \n\nVenez le découvrir en
  entrant dans la tête de l'un de ces fous et comprenez qu'on ne naît jam
 ais fou. On le devient...\n\n
LOCATION:Amphithéâtre de l'OSCAR\, 4\, Route de Bessine\, Rumilly\, HAUTE
 -SAVOIE\, 74150\, RHONE-ALPES\, France
GEO:45.863086;5.939044
X-APPLE-STRUCTURED-LOCATION;VALUE=URI;X-ADDRESS=4\, Route de Bessine\, Rumi
 lly\, HAUTE-SAVOIE\, 74150\, RHONE-ALPES\, France;X-APPLE-RADIUS=100;X-TIT
 LE=Amphithéâtre de l'OSCAR:geo:45.863086,5.939044
END:VEVENT
END:VCALENDAR