BEGIN:VCALENDAR
VERSION:2.0
PRODID:-//wp-events-plugin.com//7.2.3.1//EN
TZID:Europe/Paris
X-WR-TIMEZONE:Europe/Paris
BEGIN:VEVENT
UID:93@impropotames.fr
DTSTART:20191130T203000Z
DTEND:20191130T230000Z
DTSTAMP:20191108T105655Z
URL:https://impropotames.fr/events/impro2concept-barrio-et-living-room/
SUMMARY:Impro2Concept : Barrio et Living Room
DESCRIPTION:\nBarriò\nSynopsis :\n\nNouvelle création 2019/2020.\n\nAu d
 étour d'une rue ou lors d'une balade urbaine\, vous être forcément pass
 é dans ce qu'on appelle communément un 'quartier'.\n\nMontmartre\, Le Ma
 rais\, La Bastille ou encore les Tuileries sont les quartiers parisien les
  plus connus.\n\nMais ne vous êtes jamais demandé comment vivaient leurs
  habitants ? Ont-ils autant si ce n'est plus d'histoire à raconter ? Vene
 z le découvrir autour d'un spectacle inédit où vous serez projeté dans
  un quartier que pour le moment\, personne ne connait...\nLiving Room\nSyn
 opsis :\n\nUn apéritif entre amis\, une soirée after work\, une réunion
  de famille… ?\nIls se retrouvent réunis dans le salon de leur hôte\, 
 certains ravis\, d’autres peut-être moins.\n\nIls ont leur secrets et l
 eurs passés qui les lient. Au fil de la soirée\, les relations s’insta
 llent\, les langues se délient et les masques tombent…
LOCATION:Amphithéâtre de l'OSCAR\, 4\, Route de Bessine\, Rumilly\, HAUTE
 -SAVOIE\, 74150\, RHONE-ALPES\, France
GEO:45.863086;5.939044
X-APPLE-STRUCTURED-LOCATION;VALUE=URI;X-ADDRESS=4\, Route de Bessine\, Rumi
 lly\, HAUTE-SAVOIE\, 74150\, RHONE-ALPES\, France;X-APPLE-RADIUS=100;X-TIT
 LE=Amphithéâtre de l'OSCAR:geo:45.863086,5.939044
END:VEVENT
END:VCALENDAR