BEGIN:VCALENDAR
VERSION:2.0
PRODID:-//wp-events-plugin.com//7.2.3.1//EN
TZID:Europe/Paris
X-WR-TIMEZONE:Europe/Paris
BEGIN:VEVENT
UID:82@impropotames.fr
DTSTART:20190217T200000Z
DTEND:20190217T220000Z
DTSTAMP:20190125T103524Z
URL:https://impropotames.fr/events/impropotames-vs-cir-rabat-maroc/
SUMMARY:Impropotames vs CIR (Rabat\, Maroc)
DESCRIPTION:\n\nUne date surprise\, un imprévu au calendrier des Impropota
 mes: LE MAROC !\nDimanche 17 Février à 20h00 la chaleur de Rabat inonder
 a les gradins de l'OSCAR !\n\nProfitant d'une tournée de l'équipe maroca
 ine\, les improvisateurs de Rumilly sautent sur l'occasion et leur propose
  un petit match à domicile.\n\nFlattés\, les joueurs de la CIR acceptent
  le défi et feront le voyage jusqu'a Rumilly pour une rencontre imprevue\
 , spontanée et unique.\n\nC'était pas prévu\,  c'était pas programmé
  mais c'est ça l'impro !\n\nEntre datte et reblochon\, tempête de sable 
 et avalanche\, coup de soleil et lèvres gercées\,  saurez vous départa
 ger nos improvisateurs surboostés par les envolées de l'arbitre qui nous
  viendra directement de Charleroi en Belgique (équipe des Zimprocibles)
LOCATION:Amphithéâtre de l'OSCAR\, 4\, Route de Bessine\, Rumilly\, HAUTE
 -SAVOIE\, 74150\, RHONE-ALPES\, France
GEO:45.863086;5.939044
X-APPLE-STRUCTURED-LOCATION;VALUE=URI;X-ADDRESS=4\, Route de Bessine\, Rumi
 lly\, HAUTE-SAVOIE\, 74150\, RHONE-ALPES\, France;X-APPLE-RADIUS=100;X-TIT
 LE=Amphithéâtre de l'OSCAR:geo:45.863086,5.939044
END:VEVENT
END:VCALENDAR