BEGIN:VCALENDAR
VERSION:2.0
PRODID:-//wp-events-plugin.com//7.2.3.1//EN
TZID:Europe/Paris
X-WR-TIMEZONE:Europe/Paris
BEGIN:VEVENT
UID:8@impropotames.fr
DTSTART:20170415T203000Z
DTEND:20170415T231500Z
DTSTAMP:20170402T140905Z
URL:https://impropotames.fr/events/impropotames-vs-libjdo-bourgoin-jallieu
 -vs-libido-brest/
SUMMARY:Impropotames VS LIBJDO (Bourgoin-Jallieu) vs LIBIDO (Brest)
DESCRIPTION:Le 15 avril\, les Impropotames auront une nouvelle fois l'honne
 ur d’accueillir non pas une mais deux équipes pour une soirée sous le 
 signe de la marée basse et du gazon de Rugby.\nNous aurons le plaisir d'a
 ccueillir la Libido de Brest (et leurs juniors) ainsi que la LIBJDO de Bou
 rgoin Jallieu !\nPour vous public\, les Impropotames réveilleront leur li
 bidos ! Ce qui promet une soirée au 1001 délices !\n\nLes impropotames j
 uniors ouvriront cette journée d'improvisation avec un match contre les j
 uniors de Brest à 18h00 à l'Oscar de Rumilly.\nLe spectacle des adultes 
 commencera à 20h30 également à l'Oscar de Rumilly.\nN'hésitez pas à r
 éserver vos places directement sur le site par les liens suivants : \nImp
 ropotames Jr vs LIBIDO Jr\nImpropotames vs LIBIDO (Brest) vs LIBJDO (Bourg
 oin Jallieu)\nou en appelant le 04.50.01.08.90 et venez nombreux !\n\n\n\n
 Information à ceux qui ont déjà réservé une fois :\nAu terme de votre
  première réservation\, vous avez du recevoir un mot de passe afin de vo
 us  connecter et pouvoir gérer vos réservations.\nVotre pseudonyme de c
 onnexion est composé de tout ce qui se trouve avant l'@ de votre adresse 
 mail. Exemple : Potames74@gmail.com -&gt\; Le pseudonyme sera Potames74\nS
 i vous rencontrez des difficultés à vous connecter\, veuillez envoyer un
  courriel à infopotames@gmail.com. Merci d'avance.\n\n\n
CATEGORIES:Match
LOCATION:Amphithéâtre de l'OSCAR\, 4\, Route de Bessine\, Rumilly\, HAUTE
 -SAVOIE\, 74150\, RHONE-ALPES\, France
GEO:45.863086;5.939044
X-APPLE-STRUCTURED-LOCATION;VALUE=URI;X-ADDRESS=4\, Route de Bessine\, Rumi
 lly\, HAUTE-SAVOIE\, 74150\, RHONE-ALPES\, France;X-APPLE-RADIUS=100;X-TIT
 LE=Amphithéâtre de l'OSCAR:geo:45.863086,5.939044
END:VEVENT
END:VCALENDAR