BEGIN:VCALENDAR
VERSION:2.0
PRODID:-//wp-events-plugin.com//7.2.3.1//EN
TZID:Europe/Paris
X-WR-TIMEZONE:Europe/Paris
BEGIN:VEVENT
UID:9@impropotames.fr
DTSTART:20170506T203000Z
DTEND:20170506T223000Z
DTSTAMP:20170402T135718Z
URL:https://impropotames.fr/events/impropotames-vs-lila-lille/
SUMMARY:Impropotames VS LILA (Lille)
DESCRIPTION:Pour la toute première fois\, les Impropotames ont l'honneur d
 ’accueillir la Lila de Lille !\n\nUne rencontre qui sent bon la tomme et
  le maroilles !
CATEGORIES:Match
LOCATION:Amphithéâtre de l'OSCAR\, 4\, Route de Bessine\, Rumilly\, HAUTE
 -SAVOIE\, 74150\, RHONE-ALPES\, France
GEO:45.863086;5.939044
X-APPLE-STRUCTURED-LOCATION;VALUE=URI;X-ADDRESS=4\, Route de Bessine\, Rumi
 lly\, HAUTE-SAVOIE\, 74150\, RHONE-ALPES\, France;X-APPLE-RADIUS=100;X-TIT
 LE=Amphithéâtre de l'OSCAR:geo:45.863086,5.939044
END:VEVENT
END:VCALENDAR