BEGIN:VCALENDAR
VERSION:2.0
PRODID:-//wp-events-plugin.com//7.2.3.1//EN
TZID:Europe/Paris
X-WR-TIMEZONE:Europe/Paris
BEGIN:VEVENT
UID:81@impropotames.fr
DTSTART:20190302T203000Z
DTEND:20190302T223000Z
DTSTAMP:20190222T114457Z
URL:https://impropotames.fr/events/impropotames-vs-lyon-vs-st-etienne/
SUMMARY:Impropotames vs Lyon vs St-Etienne
DESCRIPTION:Le 2 mars\, c’est avec un immense honneur que nous accueiller
 ons non pas une mais deux équipes !\nEt pas pour n’importe quelle occa
 sion\, puisque c’est pour un derby !\nNos homologues footeux nous pardo
 nneront aisément de leur piquer le terme pour cette rencontre qui s’ann
 once électrique !\nD’un côté\, les lyonnais de la fantastique équip
 e de la Guily !\nDe l’autre\, les bouillants stéphanois de la fabuleus
 e équipe de l’ASIL !\nEt\, bien évidemment\, tout ça sur terrain neu
 tre\, à Rumilly en Haute-Savoie.\nUne rencontre à ne pas manquer ! Il s
 e pourrait même que vous ayez la chance de revoir des ‘divas’ de l’
 année dernière. \n3 équipes de 4 joueurs qui trépignent d’impatience
 \, 1 public génial et 1 arbitre frustré pour une rencontre au sommet pou
 r vous procurer un moment de pur bonheur.
LOCATION:Amphithéâtre de l'OSCAR\, 4\, Route de Bessine\, Rumilly\, HAUTE
 -SAVOIE\, 74150\, RHONE-ALPES\, France
GEO:45.863086;5.939044
X-APPLE-STRUCTURED-LOCATION;VALUE=URI;X-ADDRESS=4\, Route de Bessine\, Rumi
 lly\, HAUTE-SAVOIE\, 74150\, RHONE-ALPES\, France;X-APPLE-RADIUS=100;X-TIT
 LE=Amphithéâtre de l'OSCAR:geo:45.863086,5.939044
END:VEVENT
END:VCALENDAR