BEGIN:VCALENDAR
VERSION:2.0
PRODID:-//wp-events-plugin.com//7.2.3.1//EN
TZID:Europe/Paris
X-WR-TIMEZONE:Europe/Paris
BEGIN:VEVENT
UID:15@impropotames.fr
DTSTART:20170624T203000Z
DTEND:20170624T231500Z
DTSTAMP:20170529T065912Z
URL:https://impropotames.fr/events/impropotames-vs-tti-lyon/
SUMMARY:Impropotames vs TTI (Lyon)
DESCRIPTION:Après un festival 2017 de toute beauté\, nous aurons le bonhe
 ur d'accueillir la merveilleuse équipe de la TTI de Lyon. Et ce\, pour le
  dernier match de la saison !\n\n&nbsp\;\n\nVenez nombreux !
CATEGORIES:Match
LOCATION:Amphithéâtre de l'OSCAR\, 4\, Route de Bessine\, Rumilly\, HAUTE
 -SAVOIE\, 74150\, RHONE-ALPES\, France
GEO:45.863086;5.939044
X-APPLE-STRUCTURED-LOCATION;VALUE=URI;X-ADDRESS=4\, Route de Bessine\, Rumi
 lly\, HAUTE-SAVOIE\, 74150\, RHONE-ALPES\, France;X-APPLE-RADIUS=100;X-TIT
 LE=Amphithéâtre de l'OSCAR:geo:45.863086,5.939044
END:VEVENT
END:VCALENDAR