BEGIN:VCALENDAR
VERSION:2.0
PRODID:-//wp-events-plugin.com//7.2.3.1//EN
TZID:Europe/Paris
X-WR-TIMEZONE:Europe/Paris
BEGIN:VEVENT
UID:87@impropotames.fr
DTSTART:20190504T203000Z
DTEND:20190504T230000Z
DTSTAMP:20190423T074127Z
URL:https://impropotames.fr/events/impropotames-vs-valence-vs-brest/
SUMMARY:Impropotames vs Valence vs Brest
DESCRIPTION:Le 4 mai\, les Impropotames auront le plaisir d’accueillir la
  Libido de Brest et les Givrés de Valence pour un match d’anthologie en
 tre les trois équipes.\nAu programme : des joueurs chauds comme des poêl
 ons à raclette savoyarde\, des répliques salées comme des galettes bret
 onnes et des improvisations mouvementées comme le Rhône un jour de crue 
 !\nCette rencontre sera rythmée par les coups de sifflet de notre arbitre
  locale et par les interventions toujours pertinentes de notre MC !\nVenez
  nombreux pour encourager et applaudir ces fabuleuses équipes\, soirée t
 riplement délirante garantie !
LOCATION:Amphithéâtre de l'OSCAR\, 4\, Route de Bessine\, Rumilly\, HAUTE
 -SAVOIE\, 74150\, RHONE-ALPES\, France
GEO:45.863086;5.939044
X-APPLE-STRUCTURED-LOCATION;VALUE=URI;X-ADDRESS=4\, Route de Bessine\, Rumi
 lly\, HAUTE-SAVOIE\, 74150\, RHONE-ALPES\, France;X-APPLE-RADIUS=100;X-TIT
 LE=Amphithéâtre de l'OSCAR:geo:45.863086,5.939044
END:VEVENT
END:VCALENDAR