BEGIN:VCALENDAR
VERSION:2.0
PRODID:-//wp-events-plugin.com//7.2.3.1//EN
TZID:Europe/Paris
X-WR-TIMEZONE:Europe/Paris
BEGIN:VEVENT
UID:20@impropotames.fr
DTSTART:20171029T203000Z
DTEND:20171029T230000Z
DTSTAMP:20170915T071112Z
URL:https://impropotames.fr/events/impropotames-vs-zimprocibles-belgique-2
 /
SUMMARY:Impropotames vs Zimprocibles (Belgique)
DESCRIPTION:Le RDV immanquable du début de saison ! Comme l'année derniè
 re\, les Impropotames rencontrent les Zimprocibles de Belgique pour une re
 ncontre complétement dingue !\n\n&nbsp\;\n\nRéservation hautement consei
 llée.
CATEGORIES:Match
LOCATION:Amphithéâtre de l'OSCAR\, 4\, Route de Bessine\, Rumilly\, HAUTE
 -SAVOIE\, 74150\, RHONE-ALPES\, France
GEO:45.863086;5.939044
X-APPLE-STRUCTURED-LOCATION;VALUE=URI;X-ADDRESS=4\, Route de Bessine\, Rumi
 lly\, HAUTE-SAVOIE\, 74150\, RHONE-ALPES\, France;X-APPLE-RADIUS=100;X-TIT
 LE=Amphithéâtre de l'OSCAR:geo:45.863086,5.939044
END:VEVENT
END:VCALENDAR