BEGIN:VCALENDAR
VERSION:2.0
PRODID:-//wp-events-plugin.com//7.2.3.1//EN
TZID:Europe/Paris
X-WR-TIMEZONE:Europe/Paris
BEGIN:VEVENT
UID:75@impropotames.fr
DTSTART:20181103T183000Z
DTEND:20181103T203000Z
DTSTAMP:20181011T114518Z
URL:https://impropotames.fr/events/impropotames-vs-zimprocibles-belgique-c
 atch-dimprovisation/
SUMMARY:Impropotames vs Zimprocibles (Belgique) - Catch d'improvisation
DESCRIPTION:\nAmphithéâtre de l'OSCAR\n03 octobre 2018 à 18h30 :\nImprop
 otames vs Zimprocibles\nCatch d'improvisation\nUn catch d'improvisation\, 
 c'est des binômes (duo de personnage) qui s'affrontent autour de thèmes 
 plus fou les uns que les autres !\nPas de temps de réflexion\, c'est de l
 'action ! Pas de papouille\, c'est du combat ! Pas de chichi\, que du rire
  !\nAprès le match de la veille\, les Impropotames et les Zimprocibles au
 ront à cœur de vous emmener encore plus loin\, encore plus fort !\nUn sp
 ectacle exceptionnel où les comédiens se rendront coup pour coup !\n&nbs
 p\;\n\nVous pourrez même prolonger le plaisir puisqu'à 20h30\, AYA Catch
  présente son show Reborn où il est fort probable que vous partagiez enc
 ore des moments magiques avec nos amis belges !\n
LOCATION:Amphithéâtre de l'OSCAR\, 4\, Route de Bessine\, Rumilly\, HAUTE
 -SAVOIE\, 74150\, RHONE-ALPES\, France
GEO:45.863086;5.939044
X-APPLE-STRUCTURED-LOCATION;VALUE=URI;X-ADDRESS=4\, Route de Bessine\, Rumi
 lly\, HAUTE-SAVOIE\, 74150\, RHONE-ALPES\, France;X-APPLE-RADIUS=100;X-TIT
 LE=Amphithéâtre de l'OSCAR:geo:45.863086,5.939044
END:VEVENT
END:VCALENDAR