BEGIN:VCALENDAR
VERSION:2.0
PRODID:-//wp-events-plugin.com//7.2.3.1//EN
TZID:Europe/Paris
X-WR-TIMEZONE:Europe/Paris
BEGIN:VEVENT
UID:74@impropotames.fr
DTSTART:20181102T203000Z
DTEND:20181102T230000Z
DTSTAMP:20181011T114353Z
URL:https://impropotames.fr/events/impropotames-vs-zimprocibles-belgique-m
 atch-dimprovisation/
SUMMARY:Impropotames vs Zimprocibles (Belgique) - Match d'improvisation
DESCRIPTION:\nAmphithéâtre de l'OSCAR\n02 octobre 2018 à 20h30 :\nImprop
 otames vs Zimprocibles\nMatch d'improvisation\nUn match d'improvisation à
  ne surtout pas manquer.\nUne rencontre Impropotames / Zimprocibles\, c'es
 t la promesse d'une excellente soirée\, d'éclats de rire\, de moments o
 ù on se dit 'Mais ils sont fou !' mais surtout la promesse de moment magi
 que que vous n'êtes pas prêt d'oublier !\nQui plus est\, lorsqu'on fête
  10 ans d'amitié !\nCe match d'improvisation sera spécial\, un rdv uniqu
 e où il serait criminel de ne pas y être.\nNous vous attendons particuli
 èrement nombreux pour ce moment !\n&nbsp\;\n
LOCATION:Amphithéâtre de l'OSCAR\, 4\, Route de Bessine\, Rumilly\, HAUTE
 -SAVOIE\, 74150\, RHONE-ALPES\, France
GEO:45.863086;5.939044
X-APPLE-STRUCTURED-LOCATION;VALUE=URI;X-ADDRESS=4\, Route de Bessine\, Rumi
 lly\, HAUTE-SAVOIE\, 74150\, RHONE-ALPES\, France;X-APPLE-RADIUS=100;X-TIT
 LE=Amphithéâtre de l'OSCAR:geo:45.863086,5.939044
END:VEVENT
END:VCALENDAR