BEGIN:VCALENDAR
VERSION:2.0
PRODID:-//wp-events-plugin.com//7.2.3.1//EN
TZID:Europe/Paris
X-WR-TIMEZONE:Europe/Paris
BEGIN:VEVENT
UID:92@impropotames.fr
DTSTART:20191102T203000Z
DTEND:20191102T230000Z
DTSTAMP:20191006T091343Z
URL:https://impropotames.fr/events/impropotames-vs-zimprocibles-charleroi-
 belgique/
SUMMARY:Impropotames vs Zimprocibles (Charleroi / Belgique)
DESCRIPTION:\nLes Impropotames vs Les Zimprocibles\n \n02 Novembre à 20h30
 \n \nAmphithéâtre de l'Oscar\n \n\nPour conclure la fantastique tournée
  de nos amis belge\, les Impropotames rencontreront les Zimprocibles au co
 urs d'un match d'improvisation.\n\n \n\nMais pas sous n'importe quelle for
 me ! Puisque nous ressortons des placards le format original du match : ar
 bitre\, assistant arbitre\, tiers temps\, éponge et barillet. Venez redé
 couvrir le format phare qui a popularisé notre discipline.\n\n \n\nCela s
 era complètement fou\, nous vous attendons nombreux !\n\n
LOCATION:Amphithéâtre de l'OSCAR\, 4\, Route de Bessine\, Rumilly\, HAUTE
 -SAVOIE\, 74150\, RHONE-ALPES\, France
GEO:45.863086;5.939044
X-APPLE-STRUCTURED-LOCATION;VALUE=URI;X-ADDRESS=4\, Route de Bessine\, Rumi
 lly\, HAUTE-SAVOIE\, 74150\, RHONE-ALPES\, France;X-APPLE-RADIUS=100;X-TIT
 LE=Amphithéâtre de l'OSCAR:geo:45.863086,5.939044
END:VEVENT
END:VCALENDAR