BEGIN:VCALENDAR
VERSION:2.0
PRODID:-//wp-events-plugin.com//7.2.3.1//EN
TZID:Europe/Paris
X-WR-TIMEZONE:Europe/Paris
BEGIN:VEVENT
UID:113@impropotames.fr
DTSTART:20220430T180000Z
DTEND:20220430T230000Z
DTSTAMP:20220417T174935Z
URL:https://impropotames.fr/events/impropotamesvsgiffresvsguily2022/
SUMMARY:Le 30 avril\, c'est soirée match d'impro chez les Impropotames
DESCRIPTION:\n\n\n\n \n\n \n\n\n\n \nAmphithéâtre de l’OSCAR\n \n30 avr
 il 2022 à partir de 18h\n \n\n\n\n \nMatch Junior à 18h\n \nImpropotames
  vs Giffrés \n \n\n\n\n \nMatch adulte à 21h\n \nImpropotames vs Giffré
 s (Marignier) vs Guily (Lyon)\n \n\n\n\n \n\nC'est le retour du match d'im
 provisation chez les Impropotames !\n\n \n\nEt nous aurons l'immense honne
 ur d'inviter les équipes des Giffrés de Marignier et la Guily de Lyon.\n
 \n \n\nNon seulement pour un match adulte mais également un match junior.
 \n\n \n\nMais qu'est-ce que c'est un match d'impro ?!\n\n \n\nEt bien c'es
 t simple\, les joueurs vont s'affronter autour de thèmes (phrase\, titre\
 , mot\, musique...) afin de créer la meilleure histoire\, pour vous : pub
 lic.\n\n \n\nIls seront sous le joug sévère d'un arbitre impartial qui f
 era tout pour faire respecter les règles. A la fin de la reprise\, c'est 
 vous qui déciderez et qui voterez pour votre équipe préférée.\n\n \n\
 nUne soirée qui s'annonce exceptionnelle !\n\n \n\nTARIFS UNIQUES – UNE
  ENTRÉE -&gt\; 2 SPECTACLES\n\n \n\n\n\n \n\n&nbsp\;\n\n \nMessage import
 ant :\n \n\nBuvette et restauration rapide disponible\n\n \n\nRéservation
  également possible en téléphonant au : 04.50.01.08.90\n\n  [table id=
 63 /]  \n\n&nbsp\;\n\n \n\n\n\n
CATEGORIES:Match
LOCATION:Amphithéâtre de l'OSCAR\, 4\, Route de Bessine\, Rumilly\, HAUTE
 -SAVOIE\, 74150\, RHONE-ALPES\, France
GEO:45.863086;5.939044
X-APPLE-STRUCTURED-LOCATION;VALUE=URI;X-ADDRESS=4\, Route de Bessine\, Rumi
 lly\, HAUTE-SAVOIE\, 74150\, RHONE-ALPES\, France;X-APPLE-RADIUS=100;X-TIT
 LE=Amphithéâtre de l'OSCAR:geo:45.863086,5.939044
END:VEVENT
END:VCALENDAR