BEGIN:VCALENDAR
VERSION:2.0
PRODID:-//wp-events-plugin.com//7.2.3.1//EN
TZID:Europe/Paris
X-WR-TIMEZONE:Europe/Paris
BEGIN:VEVENT
UID:104@impropotames.fr
DTSTART:20210925T203000Z
DTEND:20210925T220000Z
DTSTAMP:20210830T084552Z
URL:https://impropotames.fr/events/jeux-improlympiques/
SUMMARY:Jeux improlympiques
DESCRIPTION:\n\nAprès les applaudissements\, les éclats de joie des jeux 
 olympiques\, les Impropotames vous proposent\, pour prolonger cette ambian
 ce\, une grande farce athlétique et parodique.\n\nAu programme épreuves 
 à surmonter\, médailles à décerner\, éclats de rires… Sous l'œil i
 mperturbable de l'arbitre\, sauront-ils surmonter l'impossible ?\nVenez so
 utenir vos champions favoris  !!!\n\nSamedi 25 Septembre\nà 20h30\nAmphi
 théâtre de l'OSCAR !!\n\nPass sanitaire et masque obligatoire\n\nBuvette
  à l'accueil
LOCATION:Amphithéâtre de l'OSCAR\, 4\, Route de Bessine\, Rumilly\, HAUTE
 -SAVOIE\, 74150\, RHONE-ALPES\, France
GEO:45.863086;5.939044
X-APPLE-STRUCTURED-LOCATION;VALUE=URI;X-ADDRESS=4\, Route de Bessine\, Rumi
 lly\, HAUTE-SAVOIE\, 74150\, RHONE-ALPES\, France;X-APPLE-RADIUS=100;X-TIT
 LE=Amphithéâtre de l'OSCAR:geo:45.863086,5.939044
END:VEVENT
END:VCALENDAR