BEGIN:VCALENDAR
VERSION:2.0
PRODID:-//wp-events-plugin.com//7.2.3.1//EN
TZID:Europe/Paris
X-WR-TIMEZONE:Europe/Paris
BEGIN:VEVENT
UID:89@impropotames.fr
DTSTART:20190928T203000Z
DTEND:20190928T223000Z
DTSTAMP:20190912T115335Z
URL:https://impropotames.fr/events/la-rentree-des-impropotames/
SUMMARY:La rentrée des Impropotames
DESCRIPTION:\n\nVous l'attendiez ? Et bien\, elle est là : la rentrée des
  Impropotames !\n\nEt elle sent bon les craies\, les cartables et les rire
 s !\n\nAprès presque 4 mois d'abstinence\, il est temps de céder à la t
 entation et de (re)venir voir de l'improvisation.\n\nCela se passera le sa
 medi 28 septembre à 20h30 dans l'amphithéâtre de l'OSCAR.\n\nN'attendez
  plus pour réserver vos places.\n\n&nbsp\;
LOCATION:Amphithéâtre de l'OSCAR\, 4\, Route de Bessine\, Rumilly\, HAUTE
 -SAVOIE\, 74150\, RHONE-ALPES\, France
GEO:45.863086;5.939044
X-APPLE-STRUCTURED-LOCATION;VALUE=URI;X-ADDRESS=4\, Route de Bessine\, Rumi
 lly\, HAUTE-SAVOIE\, 74150\, RHONE-ALPES\, France;X-APPLE-RADIUS=100;X-TIT
 LE=Amphithéâtre de l'OSCAR:geo:45.863086,5.939044
END:VEVENT
END:VCALENDAR