BEGIN:VCALENDAR
VERSION:2.0
PRODID:-//wp-events-plugin.com//7.2.3.1//EN
TZID:Europe/Paris
X-WR-TIMEZONE:Europe/Paris
BEGIN:VEVENT
UID:101@impropotames.fr
DTSTART:20200919T203000Z
DTEND:20200919T213000Z
DTSTAMP:20200908T120503Z
URL:https://impropotames.fr/events/le-19-septembre-les-impropotames-font-l
 eur-rentree/
SUMMARY:Le 19 septembre\, les Impropotames font leur rentrée
DESCRIPTION:\n Vous l’attendiez ? Et bien\, elle est là : la rentrée de
 s Impropotames !\n\n\n\nEt elle sent bon les efforts\, les performances et
  la sueur ! Venez rire avec nous autour d’un cabaret improvisé.\n\n\n\n
 Après presque 6 mois d’abstinence\, il est temps de céder à la tentat
 ion et de (re)venir voir de l’improvisation.\n\n\n\nAlors venez vite ré
 server. Réservation et port du masque obligatoire\n\n\n\nRéservation ég
 alement possible en téléphonant au : 04.50.01.08.90\n
LOCATION:Amphithéâtre de l'OSCAR\, 4\, Route de Bessine\, Rumilly\, HAUTE
 -SAVOIE\, 74150\, RHONE-ALPES\, France
GEO:45.863086;5.939044
X-APPLE-STRUCTURED-LOCATION;VALUE=URI;X-ADDRESS=4\, Route de Bessine\, Rumi
 lly\, HAUTE-SAVOIE\, 74150\, RHONE-ALPES\, France;X-APPLE-RADIUS=100;X-TIT
 LE=Amphithéâtre de l'OSCAR:geo:45.863086,5.939044
END:VEVENT
END:VCALENDAR