BEGIN:VCALENDAR
VERSION:2.0
PRODID:-//wp-events-plugin.com//7.2.3.1//EN
TZID:Europe/Paris
X-WR-TIMEZONE:Europe/Paris
BEGIN:VEVENT
UID:26@impropotames.fr
DTSTART:20170930T203000Z
DTEND:20170930T230000Z
DTSTAMP:20170929T100814Z
URL:https://impropotames.fr/events/le-coach-en-or-2/
SUMMARY:Le coach en or !
DESCRIPTION:Un concept 100% impropotames !\n\nVenez voir les meilleurs coac
 hs du monde user de stratégies diverses et variées pour remporter le Gra
 al : le titre de coach en or !\n\nLes coachs c'est vous\, et vous choisire
 z\, vous même les compositions de comédien  lors des différentes impro
 visations proposées.\n\n&nbsp\;\n\nUn concept à ne pas manquer !
CATEGORIES:Cabaret
LOCATION:Amphithéâtre de l'OSCAR\, 4\, Route de Bessine\, Rumilly\, HAUTE
 -SAVOIE\, 74150\, RHONE-ALPES\, France
GEO:45.863086;5.939044
X-APPLE-STRUCTURED-LOCATION;VALUE=URI;X-ADDRESS=4\, Route de Bessine\, Rumi
 lly\, HAUTE-SAVOIE\, 74150\, RHONE-ALPES\, France;X-APPLE-RADIUS=100;X-TIT
 LE=Amphithéâtre de l'OSCAR:geo:45.863086,5.939044
END:VEVENT
END:VCALENDAR