BEGIN:VCALENDAR
VERSION:2.0
PRODID:-//wp-events-plugin.com//7.2.3.1//EN
TZID:Europe/Paris
X-WR-TIMEZONE:Europe/Paris
BEGIN:VEVENT
UID:114@impropotames.fr
DTSTART:20220924T203000Z
DTEND:20220924T224500Z
DTSTAMP:20220906T132153Z
URL:https://impropotames.fr/events/les-impropotames-refont-leur-cinema/
SUMMARY:Les Impropotames (re)font leur cinéma
DESCRIPTION:\n\n\n\nLes Impropotames (re)font leur cinéma\n24 septembre à
  20h30\n\nAmphithéâtre de l’Oscar\n\nSynopsis :\n\nLes impropotames on
 t décidé de remettre le grand et le petit écran à l’honneur et\, pas
  n’importe comment.\n\nAvec l’aide du public\, les impropotames devron
 t revisiter les plus grands classiques du cinéma et de la télévision et
  ce à leur manière\n\nLa petite maison dans la prairie\, Américain Sie\
 , Stranger Things\, le journal de Bridget Jones\, Riverdalle… Absolument
  tout pourra y passer !\n\nDu film à l’eau de rose aux séries nul pour
  ados\, ils sont prêts à tout.\n\n\n\nMessage important :\nRéservation 
 également possible en téléphonant au : 04.50.01.08.90\n\n&nbsp\;
CATEGORIES:Cabaret
LOCATION:Amphithéâtre de l'OSCAR\, 4\, Route de Bessine\, Rumilly\, HAUTE
 -SAVOIE\, 74150\, RHONE-ALPES\, France
GEO:45.863086;5.939044
X-APPLE-STRUCTURED-LOCATION;VALUE=URI;X-ADDRESS=4\, Route de Bessine\, Rumi
 lly\, HAUTE-SAVOIE\, 74150\, RHONE-ALPES\, France;X-APPLE-RADIUS=100;X-TIT
 LE=Amphithéâtre de l'OSCAR:geo:45.863086,5.939044
END:VEVENT
END:VCALENDAR