BEGIN:VCALENDAR
VERSION:2.0
PRODID:-//wp-events-plugin.com//7.2.3.1//EN
TZID:Europe/Paris
X-WR-TIMEZONE:Europe/Paris
BEGIN:VEVENT
UID:23@impropotames.fr
DTSTART:20171223T200000Z
DTEND:20171223T211500Z
DTSTAMP:20171128T162717Z
URL:https://impropotames.fr/events/les-petits-contes-improvises/
SUMMARY:Les petits contes de Noël improvisés
DESCRIPTION:Quoi de mieux pour se préparer aux fêtes de fin d'année que 
 de s'imprégner de l'ambiance de Noël autour d'un spectacle Impropotames 
 ? Et bien rien à vrai dire !\nCette année\, Les impropotames reviennent 
 avec les traditionnels Petits contes de Noël !\n\nLe principe est simple 
 : trois contes\, trois conteurs\, trois univers mais surtout cette année 
 : deux invités de grande classe !\n\nUn spectacle ouvert à toute la fami
 lle ! L'endroit parfait pour préparer son réveillon en prenant un grand 
 bol de rire !\nN'attendez plus pour réserver !
CATEGORIES:Cabaret
LOCATION:Amphithéâtre de l'OSCAR\, 4\, Route de Bessine\, Rumilly\, HAUTE
 -SAVOIE\, 74150\, RHONE-ALPES\, France
GEO:45.863086;5.939044
X-APPLE-STRUCTURED-LOCATION;VALUE=URI;X-ADDRESS=4\, Route de Bessine\, Rumi
 lly\, HAUTE-SAVOIE\, 74150\, RHONE-ALPES\, France;X-APPLE-RADIUS=100;X-TIT
 LE=Amphithéâtre de l'OSCAR:geo:45.863086,5.939044
END:VEVENT
END:VCALENDAR