BEGIN:VCALENDAR
VERSION:2.0
PRODID:-//wp-events-plugin.com//7.2.3.1//EN
TZID:Europe/Paris
X-WR-TIMEZONE:Europe/Paris
BEGIN:VEVENT
UID:115@impropotames.fr
DTSTART:20221029T203000Z
DTEND:20221029T223000Z
DTSTAMP:20221011T085944Z
URL:https://impropotames.fr/events/match-dimprovisation-impropotames-vs-zi
 mprocibles-2/
SUMMARY:Match d’improvisation : Impropotames vs Zimprocibles
DESCRIPTION:29 Octobre 2022 à 20h30\n\nAmphithéâtre de l’Oscar\n\nSyno
 psis :\n\nC’est désormais le RDV incontournable des fêtes d’Hallowee
 n\, le match avec nos amis belges : les Zimprocibles !\n\nCela fait désor
 mais plus de 10 ans que nos deux troupes honorent chaque année ce RDV. Et
  ça ne s’arrêtera pas !\n\nDeux équipes\, deux maitres de cérémonie
  exceptionnels\, un arbitre\, des thèmes\, des catégories et une incroya
 ble énergie vous attendront !\n\n&nbsp\;\n\n&nbsp\;
LOCATION:Amphithéâtre de l'OSCAR\, 4\, Route de Bessine\, Rumilly\, HAUTE
 -SAVOIE\, 74150\, RHONE-ALPES\, France
GEO:45.863086;5.939044
X-APPLE-STRUCTURED-LOCATION;VALUE=URI;X-ADDRESS=4\, Route de Bessine\, Rumi
 lly\, HAUTE-SAVOIE\, 74150\, RHONE-ALPES\, France;X-APPLE-RADIUS=100;X-TIT
 LE=Amphithéâtre de l'OSCAR:geo:45.863086,5.939044
END:VEVENT
END:VCALENDAR