BEGIN:VCALENDAR
VERSION:2.0
PRODID:-//wp-events-plugin.com//7.2.3.1//EN
TZID:Europe/Paris
X-WR-TIMEZONE:Europe/Paris
BEGIN:VEVENT
UID:103@impropotames.fr
DTSTART:20201101T170000Z
DTEND:20201101T181500Z
DTSTAMP:20201026T103816Z
URL:https://impropotames.fr/events/match-spirits/
SUMMARY:Match Spirits
DESCRIPTION:01 Novembre 2020 à 17h00\n\nAmphithéâtre de l’Oscar\n\nSyn
 opsis :\n\nLe 31 passé\, il sera temps de célébrer la vie et notamment 
 le rire !\n\nEt quoi de mieux qu’un match d’improvisation pour cela !\
 n\nDeux équipes\, un maitre de cérémonie\, un arbitre\, des thèmes\, d
 es catégories et une incroyable énergie vous attendront !
CATEGORIES:Match
LOCATION:Amphithéâtre de l'OSCAR\, 4\, Route de Bessine\, Rumilly\, HAUTE
 -SAVOIE\, 74150\, RHONE-ALPES\, France
GEO:45.863086;5.939044
X-APPLE-STRUCTURED-LOCATION;VALUE=URI;X-ADDRESS=4\, Route de Bessine\, Rumi
 lly\, HAUTE-SAVOIE\, 74150\, RHONE-ALPES\, France;X-APPLE-RADIUS=100;X-TIT
 LE=Amphithéâtre de l'OSCAR:geo:45.863086,5.939044
END:VEVENT
END:VCALENDAR