BEGIN:VCALENDAR
VERSION:2.0
PRODID:-//wp-events-plugin.com//7.2.3.1//EN
TZID:Europe/Paris
X-WR-TIMEZONE:Europe/Paris
BEGIN:VEVENT
UID:80@impropotames.fr
DTSTART:20190119T203000Z
DTEND:20190119T233000Z
DTSTAMP:20181216T161539Z
URL:https://impropotames.fr/events/meduse-et-koala-presentent-le-catch-int
 ercontinental/
SUMMARY:Méduse et Koala présentent le catch intercontinental !
DESCRIPTION:Ils ont gagné la ceinture intercontinentale lors de la derniè
 re édition du FEST'UP à Rumilly (festival d'improvisation théâtrale). 
 Rien que pour vous\, ils ont décidé de remettre leur titre en jeu lors d
 'une énorme soirée de catch impro !\nLe binôme gagnant ira directement 
 défendre sa ceinture le jeudi 30 mai 2019 au FEST'UP.\nPour cette folle s
 oirée\, Koala et Méduse ont décidé de vous recevoir chez eux avec quel
 ques amis ! Alors mettez vos plus belles tenues de fête\, sortez les coti
 llons et rejoignez nous pour une grosse fiesta garantie !!!\nCe 19 janvier
 \, ce sera très clairement THE PLACE TO BE ! Donc sauf urgence maximale\,
  vous vous devez d'être là !
LOCATION:Amphithéâtre de l'OSCAR\, 4\, Route de Bessine\, Rumilly\, HAUTE
 -SAVOIE\, 74150\, RHONE-ALPES\, France
GEO:45.863086;5.939044
X-APPLE-STRUCTURED-LOCATION;VALUE=URI;X-ADDRESS=4\, Route de Bessine\, Rumi
 lly\, HAUTE-SAVOIE\, 74150\, RHONE-ALPES\, France;X-APPLE-RADIUS=100;X-TIT
 LE=Amphithéâtre de l'OSCAR:geo:45.863086,5.939044
END:VEVENT
END:VCALENDAR