BEGIN:VCALENDAR
VERSION:2.0
PRODID:-//wp-events-plugin.com//7.2.3.1//EN
TZID:Europe/Paris
X-WR-TIMEZONE:Europe/Paris
BEGIN:VEVENT
UID:123@impropotames.fr
DTSTART;VALUE=DATE:20230318
DTEND;VALUE=DATE:20230320
DTSTAMP:20230308T173204Z
URL:https://impropotames.fr/events/potamlab-2023/
SUMMARY:POTAM’LAB 2023
DESCRIPTION:\n\n\n\n\n\n\n\nDu samedi 18 mars au dimanche 19 mars\n\n\n\nA 
 partir de 15h \n\n\n\nAmphithéâtre de l'OSCAR\n\n\n\n\n\nWeek-end except
 ionnel pour les Impropotames et pour vous public.\n\n\n\nAfin de s'entrain
 er comme il se doit pour le FEST'UP 2023\, les impropotames vous proposent
  un week-end entier de spectacles et créations inédites pour l'occasion.
 \n\n\n\nVenez rire\, pleurer\, réfléchir et applaudir pour l'occasion. I
 l y aura 3 spectacles le samedi et 2 le dimanche.\n\n\n\nEt cela commence 
 à 15h. Veuillez trouver le programme ci-dessous :\n\n\n\n\n\n[table id=87
  /]\n\n\n\n\n\n[table id=88 /]\n\n\n\n\n\n\n\n[table id=65 /]\n\n\n\n\n\nM
 essage important :\n\n\n\nBuvette ouverte toute la journée (petite restau
 ration)\n\n\n\nRéservation également possible en téléphonant au : 04.
 50.01.08.90\n
LOCATION:Amphithéâtre de l'OSCAR\, 4\, Route de Bessine\, Rumilly\, HAUTE
 -SAVOIE\, 74150\, RHONE-ALPES\, France
GEO:45.863086;5.939044
X-APPLE-STRUCTURED-LOCATION;VALUE=URI;X-ADDRESS=4\, Route de Bessine\, Rumi
 lly\, HAUTE-SAVOIE\, 74150\, RHONE-ALPES\, France;X-APPLE-RADIUS=100;X-TIT
 LE=Amphithéâtre de l'OSCAR:geo:45.863086,5.939044
END:VEVENT
END:VCALENDAR