BEGIN:VCALENDAR
VERSION:2.0
PRODID:-//wp-events-plugin.com//7.2.3.1//EN
TZID:Europe/Paris
X-WR-TIMEZONE:Europe/Paris
BEGIN:VEVENT
UID:28@impropotames.fr
DTSTART:20180318T163000Z
DTEND:20180318T183000Z
DTSTAMP:20180224T102307Z
URL:https://impropotames.fr/events/qualification-festup2018-potames/
SUMMARY:Catch Impro : Sélection FEST UP Impropotames
DESCRIPTION:\nL'heure est grave !\n\n\n \n\n\nLe FEST'UP 2018 arrive et un
  seul binôme Impropotames aura la chance et l'honneur de défendre nos co
 uleurs lors de cet événement !\n\n\n \n\n\nLes Impropotames ont donc d
 écidé de s'affronter les uns aux autres lors d'une bataille fratricide !
  C'est à vous public que reviendra l'honneur de choisir votre binôme pr
 éféré ! \n\n\n \n\n\nCette sélection aura lieu le 18 mars à 16h30 da
 ns l'amphithéâtre de l'OSCAR. Préparez vous\, ça va être bouillant !\
 n\n\n \n\n\nTarif : Chapeau\n
CATEGORIES:Catch
LOCATION:Amphithéâtre de l'OSCAR\, 4\, Route de Bessine\, Rumilly\, HAUTE
 -SAVOIE\, 74150\, RHONE-ALPES\, France
GEO:45.863086;5.939044
X-APPLE-STRUCTURED-LOCATION;VALUE=URI;X-ADDRESS=4\, Route de Bessine\, Rumi
 lly\, HAUTE-SAVOIE\, 74150\, RHONE-ALPES\, France;X-APPLE-RADIUS=100;X-TIT
 LE=Amphithéâtre de l'OSCAR:geo:45.863086,5.939044
END:VEVENT
END:VCALENDAR