BEGIN:VCALENDAR
VERSION:2.0
PRODID:-//wp-events-plugin.com//7.2.3.1//EN
TZID:Europe/Paris
X-WR-TIMEZONE:Europe/Paris
BEGIN:VEVENT
UID:131@impropotames.fr
DTSTART:20231029T160000Z
DTEND:20231029T174500Z
DTSTAMP:20231027T144739Z
URL:https://impropotames.fr/events/scoobydoo-improvise/
SUMMARY:Scooby Doo improvisé
DESCRIPTION:\n\n\n\n29 Octobre 2023 à 16h\n\nAmphithéâtre de l’Oscar\n
 \nSynopsis :\n\nPour cette semaine d'Halloween\, les Impropotames et les Z
 improcibles ont décidé de rendre un immense hommage à un classique des 
 dessins animés pour enfant.\n\nMais pas n'importe lequel ! Celui qui se r
 approche le plus de l'esprit de la fête des morts : Scooby Doo !\n\nVenez
  suivre deux enquêtes du Scooby Gang qui essaiera par tous les moyens de 
 démêler le vrai du faux. Est-ce que ce lieu est vraiment hanté ? Est-ce
  que le monstre existe vraiment ? Reste t'il des scoobiscuits ?\n\nFred\, 
 Vera\, Daphné\, Sammy et Scooby sont prêt à tout donner (même si\, il 
 faut l'avouer\, Scooby et Sammy tremble déjà des genoux).
LOCATION:Amphithéâtre de l'OSCAR\, 4\, Route de Bessine\, Rumilly\, HAUTE
 -SAVOIE\, 74150\, RHONE-ALPES\, France
GEO:45.863086;5.939044
X-APPLE-STRUCTURED-LOCATION;VALUE=URI;X-ADDRESS=4\, Route de Bessine\, Rumi
 lly\, HAUTE-SAVOIE\, 74150\, RHONE-ALPES\, France;X-APPLE-RADIUS=100;X-TIT
 LE=Amphithéâtre de l'OSCAR:geo:45.863086,5.939044
END:VEVENT
END:VCALENDAR