BEGIN:VCALENDAR
VERSION:2.0
PRODID:-//wp-events-plugin.com//7.2.3.1//EN
TZID:Europe/Paris
X-WR-TIMEZONE:Europe/Paris
BEGIN:VEVENT
UID:76@impropotames.fr
DTSTART:20181201T180000Z
DTEND:20181201T193000Z
DTSTAMP:20181216T164855Z
URL:https://impropotames.fr/events/titi-vs-the-world/
SUMMARY:Titi vs The World
DESCRIPTION:ATTENTION ! \nUne erreur s'est glissée lors du dernier mail ! 
 Pour réserver pour le catch impro du 19 janvier\, c'est ICI (Cliquez sur
  ICI).\n\n\n\n&nbsp\;\n\n&nbsp\;\n\nVous le connaissez tous !\nCet émine
 nt arbitre du festival d’improvisation de Rumilly (Fest’UP)\, comédie
 n d’exception opérant au repaire de la comédie à Lyon et partout en F
 rance : Thierry Olivar.\nCe spectacle\, c’est l’histoire de cet homme
  qui\, seul\, rencontrera toute une équipe d’improvisateur. Il affronte
 ra des Impropotames\, des Impropotames juniors et même nos invités de la
  soirée : La LUDO de Paris !\nPour la première fois dans le monde\, ve
 nez assister à une véritable performance théâtrale.\nC’est une premi
 ère\, vous ne pouvez pas manquer cela !\n
CATEGORIES:Cabaret
LOCATION:Amphithéâtre de l'OSCAR\, 4\, Route de Bessine\, Rumilly\, HAUTE
 -SAVOIE\, 74150\, RHONE-ALPES\, France
GEO:45.863086;5.939044
X-APPLE-STRUCTURED-LOCATION;VALUE=URI;X-ADDRESS=4\, Route de Bessine\, Rumi
 lly\, HAUTE-SAVOIE\, 74150\, RHONE-ALPES\, France;X-APPLE-RADIUS=100;X-TIT
 LE=Amphithéâtre de l'OSCAR:geo:45.863086,5.939044
END:VEVENT
END:VCALENDAR