BEGIN:VCALENDAR
VERSION:2.0
PRODID:-//wp-events-plugin.com//7.2.3.1//EN
TZID:Europe/Paris
X-WR-TIMEZONE:Europe/Paris
BEGIN:VEVENT
UID:136@impropotames.fr
DTSTART;VALUE=DATE:20240330
DTEND;VALUE=DATE:20240401
DTSTAMP:20240320T093933Z
URL:https://impropotames.fr/events/tournoi-dimprovisation-galactique-junio
 rs-2/
SUMMARY:Tournoi d’improvisation galactique juniors
DESCRIPTION:\n\n\n\n\n\n\n\nDu samedi 30 mars au dimanche 31 mars\n\n\n\nA 
 partir de 14h \n\n\n\nAmphithéâtre de l'OSCAR\n\n\n\n\n\nSamedi 30 et di
 manche 31 avril prochain\, les Impropotames Juniors accueillent les équip
 es de l’ASIL de Saint-Etienne\, des Cran Magnon d’Annecy\, de la LIBJD
 O de Bourgoin Jailleu et enfin de la CIL de Thonon pour un tournoi offici
 el d’improvisation.\n\n\n\nDes règles appliquées à la lettre ! Des ar
 bitres intransigeants ! Des équipes surmotivées !\n\n\n\nVenez encourage
 r les Juniors qui s’affronteront au cours de match endiablés !\n\n\n\n\
 n [table id=93 /] \n\n\n\n [table id=94 /]\n\n\n\n\nMessage important :\n\
 n\n\nBuvette en continue le samedi et le dimanche.\n\n\n\nUne place achet
 ée donne accès à tous les matchs de la journée.\n\n
CATEGORIES:Match
LOCATION:Amphithéâtre de l'OSCAR\, 4\, Route de Bessine\, Rumilly\, HAUTE
 -SAVOIE\, 74150\, RHONE-ALPES\, France
GEO:45.863086;5.939044
X-APPLE-STRUCTURED-LOCATION;VALUE=URI;X-ADDRESS=4\, Route de Bessine\, Rumi
 lly\, HAUTE-SAVOIE\, 74150\, RHONE-ALPES\, France;X-APPLE-RADIUS=100;X-TIT
 LE=Amphithéâtre de l'OSCAR:geo:45.863086,5.939044
END:VEVENT
END:VCALENDAR