BEGIN:VCALENDAR
VERSION:2.0
PRODID:-//wp-events-plugin.com//7.2.3.1//EN
TZID:Europe/Paris
X-WR-TIMEZONE:Europe/Paris
BEGIN:VEVENT
UID:119@impropotames.fr
DTSTART:20221217T203000Z
DTEND:20221217T220000Z
DTSTAMP:20221203T103859Z
URL:https://impropotames.fr/events/une-impro-pour-noel/
SUMMARY:Une impro pour Noël
DESCRIPTION:\n\n\n\n&nbsp\;\n\nSynopsis :\n\nIl ne suffit pas d'ajouter « 
 Noël » à un titre pour créer le parfait téléfilm de fêtes. Ce sacro
 -saint divertissement\, qui prend d'assaut les chaînes de télé dès la 
 fin de l'année\, répond à des codes et des formules bien précises. \n
 \nCette année les Impropotames vous proposent leur version des téléfilm
 s de Noël.\n\nDésolé pour les amateurs du genre !\n\n&nbsp\;\n\nInfo im
 portante: tarif réduit pour les gens qui porte un pull “moche” de no
 ël
LOCATION:Amphithéâtre de l'OSCAR\, 4\, Route de Bessine\, Rumilly\, HAUTE
 -SAVOIE\, 74150\, RHONE-ALPES\, France
GEO:45.863086;5.939044
X-APPLE-STRUCTURED-LOCATION;VALUE=URI;X-ADDRESS=4\, Route de Bessine\, Rumi
 lly\, HAUTE-SAVOIE\, 74150\, RHONE-ALPES\, France;X-APPLE-RADIUS=100;X-TIT
 LE=Amphithéâtre de l'OSCAR:geo:45.863086,5.939044
END:VEVENT
END:VCALENDAR